{"text_format":"1","workbook":"xlsx","n_sheets":6,"sheets":["MENU","chamada","conteudos","Percentual_de_presencas","Configuracoes","AJUDA"],"not_rendered":{"charts":0,"images":1,"macros":1,"external_links":0,"defined_names":1,"comments":2,"pivot_tables":0},"unopened":[],"bounds":{"document_bytes":16777216,"sheet_cells":100000,"rows_first":2000,"rows_last":500,"rows_between":2000,"halvings":0,"cell_chars":16384,"cell_head_chars":4096},"cells_cut":0,"cells_raw":0,"read":"whole","date_system":"1900"}

{"sheet":"MENU","index":0,"n_rows":0,"n_cols":0,"rows_kept":0,"cut":false,"hidden":false,"merged":[]}

{"sheet":"chamada","index":1,"n_rows":90,"n_cols":135,"rows_kept":90,"cut":false,"hidden":false,"merged":[[54,53,55,53],[54,0,55,0],[54,1,55,1],[54,44,54,49],[54,50,55,50],[54,51,55,51],[54,52,55,52],[88,0,88,53],[89,50,89,53],[3,134,12,134],[3,133,12,133],[19,132,19,133],[5,1,5,19],[48,1,48,19],[49,1,49,19],[50,1,50,19],[51,1,51,19],[52,1,52,19],[6,1,6,19],[8,98,8,103],[8,104,9,104],[8,105,9,105],[8,106,9,106],[8,107,9,107],[10,55,10,56],[39,55,39,56],[40,55,40,56],[29,55,29,56],[30,55,30,56],[31,55,31,56],[32,55,32,56],[27,55,27,56],[28,55,28,56],[1,21,1,52],[0,21,0,52],[46,1,46,19],[46,21,46,52],[47,1,47,19],[47,21,47,52],[0,1,0,19],[1,1,1,19],[2,1,2,19],[3,1,3,19],[4,1,4,19],[8,1,9,1],[42,0,42,53],[43,50,43,53],[8,53,9,53],[8,44,8,49],[8,50,9,50],[8,0,9,0],[8,51,9,51],[8,52,9,52],[18,55,18,56],[19,55,19,56],[20,55,20,56],[21,55,21,56],[22,55,22,56],[0,75,0,106],[1,55,1,73],[1,75,1,106],[2,55,2,73],[3,55,3,73],[4,55,4,73],[0,55,0,73],[5,55,5,73],[6,55,6,73],[11,55,11,56],[12,55,12,56],[13,55,13,56],[14,55,14,56],[15,55,15,56],[16,55,16,56],[24,55,24,56],[25,55,25,56],[26,55,26,56],[58,55,58,56],[59,55,59,56],[60,55,60,56],[54,54,55,54],[54,55,55,55],[54,98,54,103],[46,55,46,73],[46,75,46,106],[47,55,47,73],[47,75,47,106],[48,55,48,73],[49,55,49,73],[54,104,55,104],[54,105,55,105],[54,106,55,106],[61,55,61,56],[62,55,62,56],[63,55,63,56],[55,116,55,127],[9,116,9,127],[54,107,55,107],[56,55,56,56],[57,55,57,56],[50,55,50,73],[51,55,51,73],[52,55,52,73],[41,55,41,56],[42,54,42,107],[43,104,43,107],[8,54,9,54],[8,55,9,55],[35,55,35,56],[36,55,36,56],[37,55,37,56],[38,55,38,56],[17,55,17,56],[33,55,33,56],[34,55,34,56],[23,55,23,56],[89,104,89,107],[82,55,82,56],[83,55,83,56],[84,55,84,56],[85,55,85,56],[86,55,86,56],[87,55,87,56],[76,55,76,56],[77,55,77,56],[78,55,78,56],[79,55,79,56],[80,55,80,56],[81,55,81,56],[70,55,70,56],[71,55,71,56],[72,55,72,56],[73,55,73,56],[74,55,74,56],[75,55,75,56],[64,55,64,56],[65,55,65,56],[88,54,88,107],[69,55,69,56],[66,55,66,56],[67,55,67,56],[68,55,68,56]]}
[1,"Estado do Rio Grande do Sul",null,null,null,null,null,null,null,null,null,null,null,null,null,null,null,null,null,null,null,"DIÁRIO DE CLASSE",null,null,null,null,null,null,null,null,null,null,null,null,null,null,null,null,null,null,null,null,null,null,null,null,null,null,null,null,null,null,null,null,3,"Estado do Rio Grande do Sul",null,null,null,null,null,null,null,null,null,null,null,null,null,null,null,null,null,null,null,"DIÁRIO DE CLASSE"]
[null,"Secretaria da Educação - 13 CRE - Caçapava do Sul",null,null,null,null,null,null,null,null,null,null,null,null,null,null,null,null,null,null,null,{"$f":"\"Curso: \"&Configuracoes!C23","v":"Curso: Ensino Fundamental"},null,null,null,null,null,null,null,null,null,null,null,null,null,null,null,null,null,null,null,null,null,null,null,null,null,null,null,null,null,null,null,null,null,"Secretaria da Educação - 13 CRE - Caçapava do Sul",null,null,null,null,null,null,null,null,null,null,null,null,null,null,null,null,null,null,null,{"$f":"V2","v":"Curso: Ensino Fundamental"}]
[null,{"$f":"Configuracoes!C19","v":"Esc Est Ens Fun Profª Januária Leal"},null,null,null,null,null,null,null,null,null,null,null,null,null,null,null,null,null,null,null,{"$f":"\"Calendário: \"&Configuracoes!C22","v":"Calendário: 2018 - CA-2018"},null,null,null,null,null,null,null,null,null,null,null,null,null,null,null,null,null,null,null,null,null,null,null,null,null,"Período:",null,{"$f":"Configuracoes!C6","v":"Primeiro Trimestre"},null,null,null,null,null,{"$f":"B3","v":"Esc Est Ens Fun Profª Januária Leal"},null,null,null,null,null,null,null,null,null,null,null,null,null,null,null,null,null,null,null,{"$f":"V3","v":"Calendário: 2018 - CA-2018"},null,null,null,null,null,null,null,null,null,null,null,null,null,null,null,null,null,null,null,null,null,null,null,null,null,"Período:",null,{"$f":"Configuracoes!C6","v":"Primeiro Trimestre"}]
[null,null,null,null,null,null,null,null,null,null,null,null,null,null,null,null,null,null,null,null,null,"Série:",null,null,null,{"$f":"Configuracoes!C8","v":"1º ano"},null,null,null,null,null,null,null,null,null,null,null,null,null,null,null,null,null,null,null,null,null,"Turma:",null,{"$f":"Configuracoes!C9","v":102},null,null,null,null,null,null,null,null,null,null,null,null,null,null,null,null,null,null,null,null,null,null,null,null,null,"Série:",null,null,null,{"$f":"Configuracoes!C8","v":"1º ano"},null,null,null,null,null,null,null,null,null,null,null,null,null,null,null,null,null,null,null,null,null,"Turma:",null,{"$f":"Configuracoes!C9","v":102},null,null,null,null,null,null,null,null,null,null,null,null,null,null,null,null,null,null,null,null,null,null,null,null,null,null,null,null,null,"PERCENTUAL  CONCEITOS","PERC. MÍN. PARA ATINGIR"]
[null,{"$f":"Configuracoes!$C$13","v":"Rua Félix da Cunha"},null,null,null,null,null,null,null,null,null,null,null,null,null,null,null,null,null,null,null,"Componente:",null,null,null,null,null,null,{"$f":"Configuracoes!C7","v":"Sociologia"},null,null,null,null,null,null,null,null,null,null,null,null,null,null,null,null,null,null,null,null,null,null,null,null,null,null,{"$f":"Configuracoes!$C$13","v":"Rua Félix da Cunha"},null,null,null,null,null,null,null,null,null,null,null,null,null,null,null,null,null,null,null,"Componente:",null,null,null,null,null,null,{"$f":"Configuracoes!C7","v":"Sociologia"}]
[null,{"$f":"\"CEP \"&Configuracoes!$C$14&\" - \"&Configuracoes!$C$15&\" - \"&Configuracoes!$C$16","v":"CEP 96570-000 - Caçapava do Sul - RS"},null,null,null,null,null,null,null,null,null,null,null,null,null,null,null,null,null,null,null,null,null,null,null,null,null,null,null,null,null,null,null,null,null,null,null,null,null,null,null,null,null,null,null,null,null,"Aulas Dadas:",null,null,{"$f":"COUNT(D10:AQ10)+COUNT(BF10:CS10)","v":0},null,null,null,null,{"$f":"\"CEP \"&Configuracoes!$C$14&\" - \"&Configuracoes!$C$15&\" - \"&Configuracoes!$C$16","v":"CEP 96570-000 - Caçapava do Sul - RS"},null,null,null,null,null,null,null,null,null,null,null,null,null,null,null,null,null,null,null,null,null,null,null,null,null,null,null,null,null,null,null,null,null,null,null,null,null,null,null,null,null,null,null,null,null,"Aulas Dadas:",null,null,{"$f":"AY6","v":0}]
[null,{"$f":"\"Identificação: \" &Configuracoes!$C$17& \" - Fone: \" &Configuracoes!$C$18","v":"Identificação: 2768 - Fone: (55)3281-1699"},null,null,null,null,null,null,null,null,null,null,null,null,null,null,null,null,null,null,null,"Regente:",null,null,null,null,{"$f":"Configuracoes!C10","v":"Zeferino Costa Garcia"},null,null,null,null,null,null,null,null,null,null,null,null,null,null,null,null,null,{"$f":"IF(AS8<>\"\",100/(COUNT($AS$8:$AX$8)+COUNT($CU$8:$CZ$8)),\"\")","v":""},"","","","","",null,null,null,null,null,{"$f":"\"Identificação: \" &Configuracoes!$C$17& \" - Fone: \" &Configuracoes!$C$18","v":"Identificação: 2768 - Fone: (55)3281-1699"},null,null,null,null,null,null,null,null,null,null,null,null,null,null,null,null,null,null,null,"Regente:",null,null,null,null,{"$f":"Configuracoes!C10","v":"Zeferino Costa Garcia"},null,null,null,null,null,null,null,null,null,null,null,null,null,null,null,null,null,{"$f":"IF(CU8<>\"\",100/(COUNT($AS$8:$AX$8)+COUNT($CU$8:$CZ$8)),\"\")","v":""},{"$f":"IF(CV8<>\"\",100/(COUNT($AS$8:$AX$8)+COUNT($CU$8:$CZ$8)),\"\")","v":""},{"$f":"IF(CW8<>\"\",100/(COUNT($AS$8:$AX$8)+COUNT($CU$8:$CZ$8)),\"\")","v":""},{"$f":"IF(CX8<>\"\",100/(COUNT($AS$8:$AX$8)+COUNT($CU$8:$CZ$8)),\"\")","v":""},{"$f":"IF(CY8<>\"\",100/(COUNT($AS$8:$AX$8)+COUNT($CU$8:$CZ$8)),\"\")","v":""},{"$f":"IF(CZ11<>\"\",100/(COUNTA($AS$11:$AX$11)+COUNTA($CU$11:$CZ$11)),\"\")","v":""}]
[null,null,null,null,null,null,null,null,null,null,null,null,null,null,null,null,null,null,null,null,null,null,null,null,null,null,null,null,null,null,null,null,null,null,null,null,null,null,null,null,null,null,null,null,{"$f":"IF(COUNTA(AS11:AS42)>0,COUNTA(AS11:AS42),\"\")","v":""},{"$f":"IF(COUNTA(AT11:AT42)>0,COUNTA(AT11:AT42),\"\")","v":""},"","","","",null,null,null,null,null,null,null,null,null,null,null,null,null,null,null,null,null,null,null,null,null,null,null,null,null,null,null,null,null,null,null,null,null,null,null,null,null,null,null,null,null,null,null,null,null,null,null,null,{"$f":"IF(COUNTA(CU11:CU42)>0,COUNTA(CU11:CU42),\"\")","v":""},{"$f":"IF(COUNTA(CV11:CV42)>0,COUNTA(CV11:CV42),\"\")","v":""},"","","",""]
["Nº","Nome do Aluno","MÊS ->",{"$f":"IF(D10=\"\",\"\",MONTH(D10))","v":""},{"$f":"IF(E10=\"\",\"\",MONTH(E10))","v":""},"","","","","","","","","","","","",{"$f":"IF(R10=\"\",\"\",MONTH(R10))","v":""},{"$f":"IF(S10=\"\",\"\",MONTH(S10))","v":""},{"$f":"IF(T10=\"\",\"\",MONTH(T10))","v":""},{"$f":"IF(U10=\"\",\"\",MONTH(U10))","v":""},{"$f":"IF(V10=\"\",\"\",MONTH(V10))","v":""},"",{"$f":"IF(X10=\"\",\"\",MONTH(X10))","v":""},"","","","","","","","","","","","","","","","","","","",null,"AVALIAÇÕES",null,null,null,null,null,"Nº","APR","FT","Rec","Nº","Nome do Aluno","MÊS ->",{"$f":"IF(BF10=\"\",\"\",MONTH(BF10))","v":""},{"$f":"IF(BG10=\"\",\"\",MONTH(BG10))","v":""},{"$f":"IF(BH10=\"\",\"\",MONTH(BH10))","v":""},{"$f":"IF(BI10=\"\",\"\",MONTH(BI10))","v":""},"","","","","","","","","","","","","","","","","","","","","","","","","","","","","","","","","","","","",null,"AVALIAÇÕES",null,null,null,null,null,"Nº","APR","FT","Rec"]
[null,null,"DIA ->",null,null,null,null,null,null,null,null,null,null,null,null,null,null,null,null,null,null,null,null,null,null,null,null,null,null,null,null,null,null,null,null,null,null,null,null,null,null,null,null,null,"1ª","2ª","3ª","4ª","5ª","6ª",null,null,null,null,null,null,"DIA ->",null,null,null,null,null,null,null,null,null,null,null,null,null,null,null,null,null,null,null,null,null,null,null,null,null,null,null,null,null,null,null,null,null,null,null,null,null,null,null,null,null,"7ª","8ª","9ª","10ª","11ª","12ª",null,null,null,null,null,null,null,null,null,null,null,null,"porcentagens de conceitos",null,null,null,null,null,null,null,null,null,null,null,"TOTAL"]
[1,null,null,".",".",".",".",".",".",".",".",".",".",".",".",".",".",".",".",".",".",".",".",".",".",".",".",".",".",".",".",".",".",".",".",".",".",".",".",".",".",".",".",null,null,null,null,null,null,null,{"$f":"A11","v":1},{"$f":"IF(OR(AS11=\"\",AR11<>\"\"),\"\",AVERAGE(AS11:AX11,CU11:CZ11))","v":""},{"$f":"COUNTIF(D11:AQ11,\"F\") + COUNTIF(BF11:CS11,\"F\")","v":0},null,1,{"$f":"IF(B11<>\"\",B11,\"\")","v":""},null,".",".",".",".",".",".",".",".",".",".",".",".",".",".",".",".",".",".",".",".",".",".",".",".",".",".",".",".",".",".",".",".",".",".",".",".",".",".",".",".",null,null,null,null,null,null,null,{"$f":"BC11","v":1},{"$f":"AZ11","v":""},{"$f":"BA11","v":0},null,null,null,null,null,null,null,null,null,{"$f":"IF(AS11=\"CSA\",$AS$7*$ED$14/100,IF(AS11=\"CPA\",$AS$7*$ED$15/100,IF(AS11=\"CRA\",$AS$7*$ED$16/100,\"\")))","v":""},{"$f":"IF(AT11=\"CSA\",$AT$7*$ED$14/100,IF(AT11=\"CPA\",$AT$7*$ED$15/100,IF(AT11=\"CRA\",$AT$7*$ED$16/100,\"\")))","v":""},{"$f":"IF(AU11=\"CSA\",$AU$7*$ED$14/100,IF(AU11=\"CPA\",$AU$7*$ED$15/100,IF(AU11=\"CRA\",$AU$7*$ED$16/100,\"\")))","v":""},{"$f":"IF(AV11=\"CSA\",$AV$7*$ED$14/100,IF(AV11=\"CPA\",$AV$7*$ED$15/100,IF(AV11=\"CRA\",$AV$7*$ED$16/100,\"\")))","v":""},{"$f":"IF(AW11=\"CSA\",$AW$7*$ED$14/100,IF(AW11=\"CPA\",$AW$7*$ED$15/100,IF(AW11=\"CRA\",$AW$7*$ED$16/100,\"\")))","v":""},{"$f":"IF(AX11=\"CSA\",$AX$7*$ED$14/100,IF(AX11=\"CPA\",$AX$7*$ED$15/100,IF(AX11=\"CRA\",$AX$7*$ED$16/100,\"\")))","v":""},{"$f":"IF(CU11=\"CSA\",$CU$7*$ED$14/100,IF(CU11=\"CPA\",$CU$7*$ED$15/100,IF(CU11=\"CRA\",$CU$7*$ED$16/100,\"\")))","v":""},{"$f":"IF(CV11=\"CSA\",$CU$7*$ED$14/100,IF(CV11=\"CPA\",$CU$7*$ED$15/100,IF(CV11=\"CRA\",$CU$7*$ED$16/100,\"\")))","v":""},{"$f":"IF(CW11=\"CSA\",$CU$7*$ED$14/100,IF(CW11=\"CPA\",$CU$7*$ED$15/100,IF(CW11=\"CRA\",$CU$7*$ED$16/100,\"\")))","v":""},{"$f":"IF(CX11=\"CSA\",$CU$7*$ED$14/100,IF(CX11=\"CPA\",$CU$7*$ED$15/100,IF(CX11=\"CRA\",$CU$7*$ED$16/100,\"\")))","v":""},{"$f":"IF(CY11=\"CSA\",$CU$7*$ED$14/100,IF(CY11=\"CPA\",$CU$7*$ED$15/100,IF(CY11=\"CRA\",$CU$7*$ED$16/100,\"\")))","v":""},{"$f":"IF(CZ11=\"CSA\",$CU$7*$ED$14/100,IF(CZ11=\"CPA\",$CU$7*$ED$15/100,IF(CZ11=\"CRA\",$CU$7*$ED$16/100,\"\")))","v":""},{"$f":"SUM(DM11:DX11)","v":0}]
[2,null,null,".",".",".",".",".",".",".",".",".",".",".",".",".",".",".",".",".",".",".",".",".",".",".",".",".",".",".",".",".",".",".",".",".",".",".",".",".",".",".",".",null,null,null,null,null,null,null,{"$f":"A12","v":2},{"$f":"IF(OR(AS12=\"\",AR12<>\"\"),\"\",AVERAGE(AS12:AX12,CU12:CZ12))","v":""},0,null,2,{"$f":"IF(B12<>\"\",B12,\"\")","v":""},null,".",".",".",".",".",".",".",".",".",".",".",".",".",".",".",".",".",".",".",".",".",".",".",".",".",".",".",".",".",".",".",".",".",".",".",".",".",".",".",".",null,null,null,null,null,null,null,{"$f":"BC12","v":2},{"$f":"AZ12","v":""},{"$f":"BA12","v":0},null,null,null,null,null,null,null,null,null,"","","","","","","","","","","","",{"$f":"SUM(DM12:DX12)","v":0}]
[3,null,null,".",".",".",".",".",".",".",".",".",".",".",".",".",".",".",".",".",".",".",".",".",".",".",".",".",".",".",".",".",".",".",".",".",".",".",".",".",".",".",".",null,null,null,null,null,null,null,3,{"$f":"IF(OR(AS13=\"\",AR13<>\"\"),\"\",AVERAGE(AS13:AX13,CU13:CZ13))","v":""},0,null,3,"",null,".",".",".",".",".",".",".",".",".",".",".",".",".",".",".",".",".",".",".",".",".",".",".",".",".",".",".",".",".",".",".",".",".",".",".",".",".",".",".",".",null,null,null,null,null,null,null,3,"",0,null,null,null,null,null,null,null,null,null,"","","","","","","","","","","","",0,null,null,null,"AVALIAÇÂO"]
[4,null,null,".",".",".",".",".",".",".",".",".",".",".",".",".",".",".",".",".",".",".",".",".",".",".",".",".",".",".",".",".",".",".",".",".",".",".",".",".",".",".",".",null,null,null,null,null,null,null,4,"",0,null,4,"",null,".",".",".",".",".",".",".",".",".",".",".",".",".",".",".",".",".",".",".",".",".",".",".",".",".",".",".",".",".",".",".",".",".",".",".",".",".",".",".",".",null,null,null,null,null,null,null,4,"",0,null,null,null,null,null,null,null,null,null,"","","","","","","","","","","","",0,null,null,null,"CSA",100,60]
[5,null,null,".",".",".",".",".",".",".",".",".",".",".",".",".",".",".",".",".",".",".",".",".",".",".",".",".",".",".",".",".",".",".",".",".",".",".",".",".",".",".",".",null,null,null,null,null,null,null,5,"",0,null,5,"",null,".",".",".",".",".",".",".",".",".",".",".",".",".",".",".",".",".",".",".",".",".",".",".",".",".",".",".",".",".",".",".",".",".",".",".",".",".",".",".",".",null,null,null,null,null,null,null,5,"",0,null,null,null,null,null,null,null,null,null,"","","","","","","","","","","","",0,null,null,null,"CPA",50,30]
[6,null,null,".",".",".",".",".",".",".",".",".",".",".",".",".",".",".",".",".",".",".",".",".",".",".",".",".",".",".",".",".",".",".",".",".",".",".",".",".",".",".",".",null,null,null,null,null,null,null,6,"",0,null,6,"",null,".",".",".",".",".",".",".",".",".",".",".",".",".",".",".",".",".",".",".",".",".",".",".",".",".",".",".",".",".",".",".",".",".",".",".",".",".",".",".",".",null,null,null,null,null,null,null,6,"",0,null,null,null,null,null,null,null,null,null,"","","","","","","","","","","","",0,null,null,null,"CRA",20]
[7,null,null,".",".",".",".",".",".",".",".",".",".",".",".",".",".",".",".",".",".",".",".",".",".",".",".",".",".",".",".",".",".",".",".",".",".",".",".",".",".",".",".",null,null,null,null,null,null,null,7,"",0,null,7,"",null,".",".",".",".",".",".",".",".",".",".",".",".",".",".",".",".",".",".",".",".",".",".",".",".",".",".",".",".",".",".",".",".",".",".",".",".",".",".",".",".",null,null,null,null,null,null,null,7,"",0,null,null,null,null,null,null,null,null,null,"","","","","","","","","","","","",0]
[8,null,null,".",".",".",".",".",".",".",".",".",".",".",".",".",".",".",".",".",".",".",".",".",".",".",".",".",".",".",".",".",".",".",".",".",".",".",".",".",".",".",".",null,null,null,null,null,null,null,8,"",0,null,8,"",null,".",".",".",".",".",".",".",".",".",".",".",".",".",".",".",".",".",".",".",".",".",".",".",".",".",".",".",".",".",".",".",".",".",".",".",".",".",".",".",".",null,null,null,null,null,null,null,8,"",0,null,null,null,null,null,null,null,null,null,"","","","","","","","","","","","",0]
[9,null,null,".",".",".",".",".",".",".",".",".",".",".",".",".",".",".",".",".",".",".",".",".",".",".",".",".",".",".",".",".",".",".",".",".",".",".",".",".",".",".",".",null,null,null,null,null,null,null,9,"",0,null,9,"",null,".",".",".",".",".",".",".",".",".",".",".",".",".",".",".",".",".",".",".",".",".",".",".",".",".",".",".",".",".",".",".",".",".",".",".",".",".",".",".",".",null,null,null,null,null,null,null,9,"",0,null,null,null,null,null,null,null,null,null,"","","","","","","","","","","","",0]
[10,null,null,".",".",".",".",".",".",".",".",".",".",".",".",".",".",".",".",".",".",".",".",".",".",".",".",".",".",".",".",".",".",".",".",".",".",".",".",".",".",".",".",null,null,null,null,null,null,null,10,"",0,null,10,"",null,".",".",".",".",".",".",".",".",".",".",".",".",".",".",".",".",".",".",".",".",".",".",".",".",".",".",".",".",".",".",".",".",".",".",".",".",".",".",".",".",null,null,null,null,null,null,null,10,"",0,null,null,null,null,null,null,null,null,null,"","","","","","","","","","","","",0,null,null,null,"Chamada"]
[11,null,null,".",".",".",".",".",".",".",".",".",".",".",".",".",".",".",".",".",".",".",".",".",".",".",".",".",".",".",".",".",".",".",".",".",".",".",".",".",".",".",".",null,null,null,null,null,null,null,11,"",0,null,11,"",null,".",".",".",".",".",".",".",".",".",".",".",".",".",".",".",".",".",".",".",".",".",".",".",".",".",".",".",".",".",".",".",".",".",".",".",".",".",".",".",".",null,null,null,null,null,null,null,11,"",0,null,null,null,null,null,null,null,null,null,"","","","","","","","","","","","",0,null,null,null,"Falta","F"]
[12,null,null,".",".",".",".",".",".",".",".",".",".",".",".",".",".",".",".",".",".",".",".",".",".",".",".",".",".",".",".",".",".",".",".",".",".",".",".",".",".",".",".",null,null,null,null,null,null,null,12,"",0,null,12,"",null,".",".",".",".",".",".",".",".",".",".",".",".",".",".",".",".",".",".",".",".",".",".",".",".",".",".",".",".",".",".",".",".",".",".",".",".",".",".",".",".",null,null,null,null,null,null,null,12,"",0,null,null,null,null,null,null,null,null,null,"","","","","","","","","","","","",0,null,null,null,"Presença","."]
[13,null,null,".",".",".",".",".",".",".",".",".",".",".",".",".",".",".",".",".",".",".",".",".",".",".",".",".",".",".",".",".",".",".",".",".",".",".",".",".",".",".",".",null,null,null,null,null,null,null,13,"",0,null,13,"",null,".",".",".",".",".",".",".",".",".",".",".",".",".",".",".",".",".",".",".",".",".",".",".",".",".",".",".",".",".",".",".",".",".",".",".",".",".",".",".",".",null,null,null,null,null,null,null,13,"",0,null,null,null,null,null,null,null,null,null,"","","","","","","","","","","","",0,null,null,null,"Transferido","T"]
[14,null,null,".",".",".",".",".",".",".",".",".",".",".",".",".",".",".",".",".",".",".",".",".",".",".",".",".",".",".",".",".",".",".",".",".",".",".",".",".",".",".",".",null,null,null,null,null,null,null,14,"",0,null,14,"",null,".",".",".",".",".",".",".",".",".",".",".",".",".",".",".",".",".",".",".",".",".",".",".",".",".",".",".",".",".",".",".",".",".",".",".",".",".",".",".",".",null,null,null,null,null,null,null,14,"",0,null,null,null,null,null,null,null,null,null,"","","","","","","","","","","","",0,null,null,null,"Cancelado","C"]
[15,null,null,".",".",".",".",".",".",".",".",".",".",".",".",".",".",".",".",".",".",".",".",".",".",".",".",".",".",".",".",".",".",".",".",".",".",".",".",".",".",".",".",null,null,null,null,null,null,null,15,"",0,null,15,"",null,".",".",".",".",".",".",".",".",".",".",".",".",".",".",".",".",".",".",".",".",".",".",".",".",".",".",".",".",".",".",".",".",".",".",".",".",".",".",".",".",null,null,null,null,null,null,null,15,"",0,null,null,null,null,null,null,null,null,null,"","","","","","","","","","","","",0,null,null,null,"Amparado","A"]
[16,null,null,".",".",".",".",".",".",".",".",".",".",".",".",".",".",".",".",".",".",".",".",".",".",".",".",".",".",".",".",".",".",".",".",".",".",".",".",".",".",".",".",null,null,null,null,null,null,null,16,"",0,null,16,"",null,".",".",".",".",".",".",".",".",".",".",".",".",".",".",".",".",".",".",".",".",".",".",".",".",".",".",".",".",".",".",".",".",".",".",".",".",".",".",".",".",null,null,null,null,null,null,null,16,"",0,null,null,null,null,null,null,null,null,null,"","","","","","","","","","","","",0,null,null,null,"Encceja","E"]
[17,null,null,".",".",".",".",".",".",".",".",".",".",".",".",".",".",".",".",".",".",".",".",".",".",".",".",".",".",".",".",".",".",".",".",".",".",".",".",".",".",".",".",null,null,null,null,null,null,null,17,"",0,null,17,"",null,".",".",".",".",".",".",".",".",".",".",".",".",".",".",".",".",".",".",".",".",".",".",".",".",".",".",".",".",".",".",".",".",".",".",".",".",".",".",".",".",null,null,null,null,null,null,null,17,"",0,null,null,null,null,null,null,null,null,null,"","","","","","","","","","","","",0,null,null,null,"Abandono","B"]
[18,null,null,".",".",".",".",".",".",".",".",".",".",".",".",".",".",".",".",".",".",".",".",".",".",".",".",".",".",".",".",".",".",".",".",".",".",".",".",".",".",".",".",null,null,null,null,null,null,null,18,{"$f":"IF(OR(AS28=\"\",AR28<>\"\"),\"\",AVERAGE(AS28:AX28,CU28:CZ28))","v":""},0,null,18,"",null,".",".",".",".",".",".",".",".",".",".",".",".",".",".",".",".",".",".",".",".",".",".",".",".",".",".",".",".",".",".",".",".",".",".",".",".",".",".",".",".",null,null,null,null,null,null,null,18,"",0,null,null,null,null,null,null,null,null,null,"","","","","","","","","","","","",0,null,null,null,null,","]
[19,null,null,".",".",".",".",".",".",".",".",".",".",".",".",".",".",".",".",".",".",".",".",".",".",".",".",".",".",".",".",".",".",".",".",".",".",".",".",".",".",".",".",null,null,null,null,null,null,null,19,"",0,null,19,"",null,".",".",".",".",".",".",".",".",".",".",".",".",".",".",".",".",".",".",".",".",".",".",".",".",".",".",".",".",".",".",".",".",".",".",".",".",".",".",".",".",null,null,null,null,null,null,null,19,"",0,null,null,null,null,null,null,null,null,null,"","","","","","","","","","","","",0]
[20,null,null,".",".",".",".",".",".",".",".",".",".",".",".",".",".",".",".",".",".",".",".",".",".",".",".",".",".",".",".",".",".",".",".",".",".",".",".",".",".",".",".",null,null,null,null,null,null,null,20,"",0,null,20,"",null,".",".",".",".",".",".",".",".",".",".",".",".",".",".",".",".",".",".",".",".",".",".",".",".",".",".",".",".",".",".",".",".",".",".",".",".",".",".",".",".",null,null,null,null,null,null,null,20,"",0,null,null,null,null,null,null,null,null,null,"","","","","","","","","","","","",0]
[21,null,null,".",".",".",".",".",".",".",".",".",".",".",".",".",".",".",".",".",".",".",".",".",".",".",".",".",".",".",".",".",".",".",".",".",".",".",".",".",".",".",".",null,null,null,null,null,null,null,21,"",0,null,21,"",null,".",".",".",".",".",".",".",".",".",".",".",".",".",".",".",".",".",".",".",".",".",".",".",".",".",".",".",".",".",".",".",".",".",".",".",".",".",".",".",".",null,null,null,null,null,null,null,21,"",0,null,null,null,null,null,null,null,null,null,"","","","","","","","","","","","",0]
[22,null,null,".",".",".",".",".",".",".",".",".",".",".",".",".",".",".",".",".",".",".",".",".",".",".",".",".",".",".",".",".",".",".",".",".",".",".",".",".",".",".",".",null,null,null,null,null,null,null,22,"",0,null,22,"",null,".",".",".",".",".",".",".",".",".",".",".",".",".",".",".",".",".",".",".",".",".",".",".",".",".",".",".",".",".",".",".",".",".",".",".",".",".",".",".",".",null,null,null,null,null,null,null,22,"",0,null,null,null,null,null,null,null,null,null,"","","","","","","","","","","","",0]
[23,null,null,".",".",".",".",".",".",".",".",".",".",".",".",".",".",".",".",".",".",".",".",".",".",".",".",".",".",".",".",".",".",".",".",".",".",".",".",".",".",".",".",null,null,null,null,null,null,null,23,"",0,null,23,"",null,".",".",".",".",".",".",".",".",".",".",".",".",".",".",".",".",".",".",".",".",".",".",".",".",".",".",".",".",".",".",".",".",".",".",".",".",".",".",".",".",null,null,null,null,null,null,null,23,"",0,null,null,null,null,null,null,null,null,null,"","","","","","","","","","","","",0]
[24,null,null,".",".",".",".",".",".",".",".",".",".",".",".",".",".",".",".",".",".",".",".",".",".",".",".",".",".",".",".",".",".",".",".",".",".",".",".",".",".",".",".",null,null,null,null,null,null,null,24,"",0,null,24,"",null,".",".",".",".",".",".",".",".",".",".",".",".",".",".",".",".",".",".",".",".",".",".",".",".",".",".",".",".",".",".",".",".",".",".",".",".",".",".",".",".",null,null,null,null,null,null,null,24,"",0,null,null,null,null,null,null,null,null,null,"","","","","","","","","","","","",0]
[25,null,null,".",".",".",".",".",".",".",".",".",".",".",".",".",".",".",".",".",".",".",".",".",".",".",".",".",".",".",".",".",".",".",".",".",".",".",".",".",".",".",".",null,null,null,null,null,null,null,25,"",0,null,25,"",null,".",".",".",".",".",".",".",".",".",".",".",".",".",".",".",".",".",".",".",".",".",".",".",".",".",".",".",".",".",".",".",".",".",".",".",".",".",".",".",".",null,null,null,null,null,null,null,25,"",0,null,null,null,null,null,null,null,null,null,"","","","","","","","","","","","",0]
[26,null,null,".",".",".",".",".",".",".",".",".",".",".",".",".",".",".",".",".",".",".",".",".",".",".",".",".",".",".",".",".",".",".",".",".",".",".",".",".",".",".",".",null,null,null,null,null,null,null,26,"",0,null,26,"",null,".",".",".",".",".",".",".",".",".",".",".",".",".",".",".",".",".",".",".",".",".",".",".",".",".",".",".",".",".",".",".",".",".",".",".",".",".",".",".",".",null,null,null,null,null,null,null,26,"",0,null,null,null,null,null,null,null,null,null,"","","","","","","","","","","","",0]
[27,null,null,".",".",".",".",".",".",".",".",".",".",".",".",".",".",".",".",".",".",".",".",".",".",".",".",".",".",".",".",".",".",".",".",".",".",".",".",".",".",".",".",null,null,null,null,null,null,null,27,"",0,null,27,"",null,".",".",".",".",".",".",".",".",".",".",".",".",".",".",".",".",".",".",".",".",".",".",".",".",".",".",".",".",".",".",".",".",".",".",".",".",".",".",".",".",null,null,null,null,null,null,null,27,"",0,null,null,null,null,null,null,null,null,null,"","","","","","","","","","","","",0]
[28,null,null,".",".",".",".",".",".",".",".",".",".",".",".",".",".",".",".",".",".",".",".",".",".",".",".",".",".",".",".",".",".",".",".",".",".",".",".",".",".",".",".",null,null,null,null,null,null,null,28,"",0,null,28,"",null,".",".",".",".",".",".",".",".",".",".",".",".",".",".",".",".",".",".",".",".",".",".",".",".",".",".",".",".",".",".",".",".",".",".",".",".",".",".",".",".",null,null,null,null,null,null,null,28,"",0,null,null,null,null,null,null,null,null,null,"","","","","","","","","","","","",0]
[29,null,null,".",".",".",".",".",".",".",".",".",".",".",".",".",".",".",".",".",".",".",".",".",".",".",".",".",".",".",".",".",".",".",".",".",".",".",".",".",".",".",".",null,null,null,null,null,null,null,29,"",0,null,29,"",null,".",".",".",".",".",".",".",".",".",".",".",".",".",".",".",".",".",".",".",".",".",".",".",".",".",".",".",".",".",".",".",".",".",".",".",".",".",".",".",".",null,null,null,null,null,null,null,29,"",0,null,null,null,null,null,null,null,null,null,"","","","","","","","","","","","",0]
[30,null,null,".",".",".",".",".",".",".",".",".",".",".",".",".",".",".",".",".",".",".",".",".",".",".",".",".",".",".",".",".",".",".",".",".",".",".",".",".",".",".",".",null,null,null,null,null,null,null,30,"",0,null,30,"",null,".",".",".",".",".",".",".",".",".",".",".",".",".",".",".",".",".",".",".",".",".",".",".",".",".",".",".",".",".",".",".",".",".",".",".",".",".",".",".",".",null,null,null,null,null,null,null,30,"",0,null,null,null,null,null,null,null,null,null,"","","","","","","","","","","","",0]
[31,null,null,".",".",".",".",".",".",".",".",".",".",".",".",".",".",".",".",".",".",".",".",".",".",".",".",".",".",".",".",".",".",".",".",".",".",".",".",".",".",".",".",null,null,null,null,null,null,null,31,"",0,null,31,"",null,".",".",".",".",".",".",".",".",".",".",".",".",".",".",".",".",".",".",".",".",".",".",".",".",".",".",".",".",".",".",".",".",".",".",".",".",".",".",".",".",null,null,null,null,null,null,null,31,"",0,null,null,null,null,null,null,null,null,null,"","","","","","","","","","","","",0]
[32,null,null,".",".",".",".",".",".",".",".",".",".",".",".",".",".",".",".",".",".",".",".",".",".",".",".",".",".",".",".",".",".",".",".",".",".",".",".",".",".",".",".",null,null,null,null,null,null,null,32,"",0,null,32,"",null,".",".",".",".",".",".",".",".",".",".",".",".",".",".",".",".",".",".",".",".",".",".",".",".",".",".",".",".",".",".",".",".",".",".",".",".",".",".",".",".",null,null,null,null,null,null,null,32,"",0,null,null,null,null,null,null,null,null,null,"","","","","","","","","","","","",0]
["Entregue em:___/___/_____ POR__________________  Revisado em:___/___/_____ POR__________________ Processado em:___/___/_____ POR__________________ ",null,null,null,null,null,null,null,null,null,null,null,null,null,null,null,null,null,null,null,null,null,null,null,null,null,null,null,null,null,null,null,null,null,null,null,null,null,null,null,null,null,null,null,null,null,null,null,null,null,null,null,null,null,"Entregue em:___/___/_____ POR__________________  Revisado em:___/___/_____ POR__________________ Processado em:___/___/_____ POR__________________ "]
["* Aluno com bolsa família   ** Aluno especial",null,null,"T = Transferido na data",null,null,null,null,null,null,null,null,null,null,null,null,null,null,"C = Calcelado na data",null,null,null,null,null,null,null,null,null,null,null,null,null,null,null,null,null,null,null,null,null,null,null,null,null,null,null,null,null,null,null,{"$f":"NOW()","v":"2021-11-10T17:47:29.510"},null,null,null,"* Aluno com bolsa família   ** Aluno especial",null,null,"T = Transferido na data",null,null,null,null,null,null,null,null,null,null,null,null,null,"C = Calcelado na data",null,null,null,null,null,null,null,null,null,null,null,null,null,null,null,null,null,null,null,null,null,null,null,null,null,null,null,null,null,null,null,null,{"$f":"NOW()","v":"2021-11-10T17:47:29.510"}]
[]
[]
[2,"Estado do Rio Grande do Sul",null,null,null,null,null,null,null,null,null,null,null,null,null,null,null,null,null,null,null,"DIÁRIO DE CLASSE",null,null,null,null,null,null,null,null,null,null,null,null,null,null,null,null,null,null,null,null,null,null,null,null,null,null,null,null,null,null,null,null,4,"Estado do Rio Grande do Sul",null,null,null,null,null,null,null,null,null,null,null,null,null,null,null,null,null,null,null,"DIÁRIO DE CLASSE"]
[null,"Secretaria da Educação - 13 CRE - Caçapava do Sul",null,null,null,null,null,null,null,null,null,null,null,null,null,null,null,null,null,null,null,{"$f":"V2","v":"Curso: Ensino Fundamental"},null,null,null,null,null,null,null,null,null,null,null,null,null,null,null,null,null,null,null,null,null,null,null,null,null,null,null,null,null,null,null,null,null,"Secretaria da Educação - 13 CRE - Caçapava do Sul",null,null,null,null,null,null,null,null,null,null,null,null,null,null,null,null,null,null,null,{"$f":"V2","v":"Curso: Ensino Fundamental"}]
[null,{"$f":"B3","v":"Esc Est Ens Fun Profª Januária Leal"},null,null,null,null,null,null,null,null,null,null,null,null,null,null,null,null,null,null,null,{"$f":"V3","v":"Calendário: 2018 - CA-2018"},null,null,null,null,null,null,null,null,null,null,null,null,null,null,null,null,null,null,null,null,null,null,null,null,null,"Período:",null,{"$f":"Configuracoes!C6","v":"Primeiro Trimestre"},null,null,null,null,null,{"$f":"B3","v":"Esc Est Ens Fun Profª Januária Leal"},null,null,null,null,null,null,null,null,null,null,null,null,null,null,null,null,null,null,null,{"$f":"V3","v":"Calendário: 2018 - CA-2018"},null,null,null,null,null,null,null,null,null,null,null,null,null,null,null,null,null,null,null,null,null,null,null,null,null,"Período:",null,{"$f":"Configuracoes!C6","v":"Primeiro Trimestre"}]
[null,null,null,null,null,null,null,null,null,null,null,null,null,null,null,null,null,null,null,null,null,"Série:",null,null,null,{"$f":"Configuracoes!C8","v":"1º ano"},null,null,null,null,null,null,null,null,null,null,null,null,null,null,null,null,null,null,null,null,null,"Turma:",null,{"$f":"Configuracoes!C9","v":102},null,null,null,null,null,null,null,null,null,null,null,null,null,null,null,null,null,null,null,null,null,null,null,null,null,"Série:",null,null,null,{"$f":"Configuracoes!C8","v":"1º ano"},null,null,null,null,null,null,null,null,null,null,null,null,null,null,null,null,null,null,null,null,null,"Turma:",null,{"$f":"Configuracoes!C9","v":102}]
[null,{"$f":"Configuracoes!$C$13","v":"Rua Félix da Cunha"},null,null,null,null,null,null,null,null,null,null,null,null,null,null,null,null,null,null,null,"Componente:",null,null,null,null,null,null,{"$f":"Configuracoes!C7","v":"Sociologia"},null,null,null,null,null,null,null,null,null,null,null,null,null,null,null,null,null,null,null,null,null,null,null,null,null,null,{"$f":"Configuracoes!$C$13","v":"Rua Félix da Cunha"},null,null,null,null,null,null,null,null,null,null,null,null,null,null,null,null,null,null,null,"Componente:",null,null,null,null,null,null,{"$f":"Configuracoes!C7","v":"Sociologia"}]
[null,{"$f":"\"CEP \"&Configuracoes!$C$14&\" - \"&Configuracoes!$C$15&\" - \"&Configuracoes!$C$16","v":"CEP 96570-000 - Caçapava do Sul - RS"},null,null,null,null,null,null,null,null,null,null,null,null,null,null,null,null,null,null,null,null,null,null,null,null,null,null,null,null,null,null,null,null,null,null,null,null,null,null,null,null,null,null,null,null,null,"Aulas Dadas:",null,null,{"$f":"AY6","v":0},null,null,null,null,{"$f":"\"CEP \"&Configuracoes!$C$14&\" - \"&Configuracoes!$C$15&\" - \"&Configuracoes!$C$16","v":"CEP 96570-000 - Caçapava do Sul - RS"},null,null,null,null,null,null,null,null,null,null,null,null,null,null,null,null,null,null,null,null,null,null,null,null,null,null,null,null,null,null,null,null,null,null,null,null,null,null,null,null,null,null,null,null,null,"Aulas Dadas:",null,null,{"$f":"AY6","v":0}]
[null,{"$f":"\"Identificação: \" &Configuracoes!$C$17& \" - Fone: \" &Configuracoes!$C$18","v":"Identificação: 2768 - Fone: (55)3281-1699"},null,null,null,null,null,null,null,null,null,null,null,null,null,null,null,null,null,null,null,"Regente:",null,null,null,null,{"$f":"Configuracoes!C10","v":"Zeferino Costa Garcia"},null,null,null,null,null,null,null,null,null,null,null,null,null,null,null,null,null,{"$f":"AS7","v":""},"","","","","",null,null,null,null,null,{"$f":"\"Identificação: \" &Configuracoes!$C$17& \" - Fone: \" &Configuracoes!$C$18","v":"Identificação: 2768 - Fone: (55)3281-1699"},null,null,null,null,null,null,null,null,null,null,null,null,null,null,null,null,null,null,null,"Regente:",null,null,null,null,{"$f":"Configuracoes!C10","v":"Zeferino Costa Garcia"},null,null,null,null,null,null,null,null,null,null,null,null,null,null,null,null,null,{"$f":"CU7","v":""},"","","","",""]
[]
["Nº","Nome do Aluno","MÊS ->",{"$f":"IF(D56=\"\",\"\",MONTH(D56))","v":""},{"$f":"IF(E56=\"\",\"\",MONTH(E56))","v":""},{"$f":"IF(F56=\"\",\"\",MONTH(F56))","v":""},{"$f":"IF(G56=\"\",\"\",MONTH(G56))","v":""},{"$f":"IF(H56=\"\",\"\",MONTH(H56))","v":""},{"$f":"IF(I56=\"\",\"\",MONTH(I56))","v":""},{"$f":"IF(J56=\"\",\"\",MONTH(J56))","v":""},{"$f":"IF(K56=\"\",\"\",MONTH(K56))","v":""},{"$f":"IF(L56=\"\",\"\",MONTH(L56))","v":""},{"$f":"IF(M56=\"\",\"\",MONTH(M56))","v":""},{"$f":"IF(N56=\"\",\"\",MONTH(N56))","v":""},{"$f":"IF(O56=\"\",\"\",MONTH(O56))","v":""},{"$f":"IF(P56=\"\",\"\",MONTH(P56))","v":""},{"$f":"IF(Q56=\"\",\"\",MONTH(Q56))","v":""},{"$f":"IF(R56=\"\",\"\",MONTH(R56))","v":""},{"$f":"IF(S56=\"\",\"\",MONTH(S56))","v":""},{"$f":"IF(T56=\"\",\"\",MONTH(T56))","v":""},{"$f":"IF(U56=\"\",\"\",MONTH(U56))","v":""},{"$f":"IF(V56=\"\",\"\",MONTH(V56))","v":""},{"$f":"IF(W56=\"\",\"\",MONTH(W56))","v":""},{"$f":"IF(X56=\"\",\"\",MONTH(X56))","v":""},"","","","","","","","","","","","","","","","","",{"$f":"IF(AP56=\"\",\"\",MONTH(AP56))","v":""},{"$f":"IF(AQ56=\"\",\"\",MONTH(AQ56))","v":""},null,"AVALIAÇÕES",null,null,null,null,null,"Nº","APR","FT","Rec","Nº","Nome do Aluno","MÊS ->",{"$f":"IF(BF56=\"\",\"\",MONTH(BF56))","v":""},{"$f":"IF(BG56=\"\",\"\",MONTH(BG56))","v":""},{"$f":"IF(BH56=\"\",\"\",MONTH(BH56))","v":""},{"$f":"IF(BI56=\"\",\"\",MONTH(BI56))","v":""},{"$f":"IF(BJ56=\"\",\"\",MONTH(BJ56))","v":""},{"$f":"IF(BK56=\"\",\"\",MONTH(BK56))","v":""},{"$f":"IF(BL56=\"\",\"\",MONTH(BL56))","v":""},{"$f":"IF(BM56=\"\",\"\",MONTH(BM56))","v":""},{"$f":"IF(BN56=\"\",\"\",MONTH(BN56))","v":""},{"$f":"IF(BO56=\"\",\"\",MONTH(BO56))","v":""},{"$f":"IF(BP56=\"\",\"\",MONTH(BP56))","v":""},{"$f":"IF(BQ56=\"\",\"\",MONTH(BQ56))","v":""},{"$f":"IF(BR56=\"\",\"\",MONTH(BR56))","v":""},{"$f":"IF(BS56=\"\",\"\",MONTH(BS56))","v":""},{"$f":"IF(BT56=\"\",\"\",MONTH(BT56))","v":""},{"$f":"IF(BU56=\"\",\"\",MONTH(BU56))","v":""},{"$f":"IF(BV56=\"\",\"\",MONTH(BV56))","v":""},{"$f":"IF(BW56=\"\",\"\",MONTH(BW56))","v":""},{"$f":"IF(BX56=\"\",\"\",MONTH(BX56))","v":""},{"$f":"IF(BY56=\"\",\"\",MONTH(BY56))","v":""},{"$f":"IF(BZ56=\"\",\"\",MONTH(BZ56))","v":""},"","","","","","","","","","","","","","","","","",{"$f":"IF(CR56=\"\",\"\",MONTH(CR56))","v":""},{"$f":"IF(CS56=\"\",\"\",MONTH(CS56))","v":""},null,"AVALIAÇÕES",null,null,null,null,null,"Nº","APR","FT","Rec"]
[null,null,"DIA ->",{"$f":"IF(D10<>\"\",D10,\"\")","v":""},{"$f":"IF(E10<>\"\",E10,\"\")","v":""},"","","","",{"$f":"IF(J10<>\"\",J10,\"\")","v":""},"","","","","","",{"$f":"IF(Q10<>\"\",Q10,\"\")","v":""},"","","","","",{"$f":"IF(W10<>\"\",W10,\"\")","v":""},{"$f":"IF(X10<>\"\",X10,\"\")","v":""},{"$f":"IF(Y10<>\"\",Y10,\"\")","v":""},"","","","","","","","","","","","","","","","","","",null,"1ª","2ª","3ª","4ª","5ª","6ª",null,null,null,null,null,null,"DIA ->",{"$f":"IF(BF10<>\"\",BF10,\"\")","v":""},{"$f":"IF(BG10<>\"\",BG10,\"\")","v":""},{"$f":"IF(BH10<>\"\",BH10,\"\")","v":""},"","","","","","",{"$f":"IF(BO10<>\"\",BO10,\"\")","v":""},{"$f":"IF(BP10<>\"\",BP10,\"\")","v":""},{"$f":"IF(BQ10<>\"\",BQ10,\"\")","v":""},{"$f":"IF(BR10<>\"\",BR10,\"\")","v":""},"","","","","","",{"$f":"IF(BY10<>\"\",BY10,\"\")","v":""},{"$f":"IF(BZ10<>\"\",BZ10,\"\")","v":""},{"$f":"IF(CA10<>\"\",CA10,\"\")","v":""},"","","","","","","","","","","","","","","","","","",null,"7ª","8ª","9ª","10ª","11ª","12ª",null,null,null,null,null,null,null,null,null,null,null,null,"porcentagens de conceitos",null,null,null,null,null,null,null,null,null,null,null,"TOTAL"]
[33,null,null,".",".",".",".",".",".",".",".",".",".",".",".",".",".",".",".",".",".",".",".",".",".",".",".",".",".",".",".",".",".",".",".",".",".",".",".",".",".",".",".",null,null,null,null,null,null,null,{"$f":"A57","v":33},{"$f":"IF(OR(AS57=\"\",AR57<>\"\"),\"\",AVERAGE(AS57:AX57,CU57:CZ57))","v":""},{"$f":"COUNTIF(D57:AQ57,\"F\")+COUNTIF(BF57:CS57,\"F\")","v":0},null,33,{"$f":"IF(B57<>\"\",B57,\"\")","v":""},null,".",".",".",".",".",".",".",".",".",".",".",".",".",".",".",".",".",".",".",".",".",".",".",".",".",".",".",".",".",".",".",".",".",".",".",".",".",".",".",".",null,null,null,null,null,null,null,{"$f":"BC57","v":33},{"$f":"AZ57","v":""},{"$f":"BA57","v":0},null,null,null,null,null,null,null,null,null,{"$f":"IF(AS57=\"CSA\",$AS$53*$ED$14/100,IF(AS57=\"CPA\",$AS$53*$ED$15/100,IF(AS57=\"CRA\",$AS$53*$ED$16/100,\"\")))","v":""},{"$f":"IF(AT57=\"CSA\",$AT$53*$ED$14/100,IF(AT57=\"CPA\",$AT$53*$ED$15/100,IF(AT57=\"CRA\",$AT$53*$ED$16/100,\"\")))","v":""},{"$f":"IF(AU57=\"CSA\",$AU$53*$ED$14/100,IF(AU57=\"CPA\",$AU$53*$ED$15/100,IF(AU57=\"CRA\",$AU$53*$ED$16/100,\"\")))","v":""},{"$f":"IF(AV57=\"CSA\",$AV$53*$ED$14/100,IF(AV57=\"CPA\",$AV$53*$ED$15/100,IF(AV57=\"CRA\",$AV$53*$ED$16/100,\"\")))","v":""},{"$f":"IF(AW57=\"CSA\",$AW$53*$ED$14/100,IF(AW57=\"CPA\",$AW$53*$ED$15/100,IF(AW57=\"CRA\",$AW$53*$ED$16/100,\"\")))","v":""},{"$f":"IF(AX57=\"CSA\",$AX$53*$ED$14/100,IF(AX57=\"CPA\",$AX$53*$ED$15/100,IF(AX57=\"CRA\",$AX$53*$ED$16/100,\"\")))","v":""},{"$f":"IF(CU57=\"CSA\",$CU$53*$ED$14/100,IF(CU57=\"CPA\",$CU$53*$ED$15/100,IF(CU57=\"CRA\",$CU$53*$ED$16/100,\"\")))","v":""},{"$f":"IF(CV57=\"CSA\",$CU$53*$ED$14/100,IF(CV57=\"CPA\",$CU$53*$ED$15/100,IF(CV57=\"CRA\",$CU$53*$ED$16/100,\"\")))","v":""},{"$f":"IF(CW57=\"CSA\",$CU$53*$ED$14/100,IF(CW57=\"CPA\",$CU$53*$ED$15/100,IF(CW57=\"CRA\",$CU$53*$ED$16/100,\"\")))","v":""},{"$f":"IF(CX57=\"CSA\",$CU$53*$ED$14/100,IF(CX57=\"CPA\",$CU$53*$ED$15/100,IF(CX57=\"CRA\",$CU$53*$ED$16/100,\"\")))","v":""},{"$f":"IF(CY57=\"CSA\",$CU$53*$ED$14/100,IF(CY57=\"CPA\",$CU$53*$ED$15/100,IF(CY57=\"CRA\",$CU$53*$ED$16/100,\"\")))","v":""},{"$f":"IF(CZ57=\"CSA\",$CU$53*$ED$14/100,IF(CZ57=\"CPA\",$CU$53*$ED$15/100,IF(CZ57=\"CRA\",$CU$53*$ED$16/100,\"\")))","v":""},{"$f":"SUM(DM57:DX57)","v":0}]
[34,null,null,".",".",".",".",".",".",".",".",".",".",".",".",".",".",".",".",".",".",".",".",".",".",".",".",".",".",".",".",".",".",".",".",".",".",".",".",".",".",".",".",null,null,null,null,null,null,null,{"$f":"A58","v":34},{"$f":"IF(OR(AS58=\"\",AR58<>\"\"),\"\",AVERAGE(AS58:AX58,CU58:CZ58))","v":""},0,null,34,{"$f":"IF(B58<>\"\",B58,\"\")","v":""},null,".",".",".",".",".",".",".",".",".",".",".",".",".",".",".",".",".",".",".",".",".",".",".",".",".",".",".",".",".",".",".",".",".",".",".",".",".",".",".",".",null,null,null,null,null,null,null,{"$f":"BC58","v":34},{"$f":"AZ58","v":""},{"$f":"BA58","v":0},null,null,null,null,null,null,null,null,null,"","","","","","","","","","","","",{"$f":"SUM(DM58:DX58)","v":0}]
[35,null,null,".",".",".",".",".",".",".",".",".",".",".",".",".",".",".",".",".",".",".",".",".",".",".",".",".",".",".",".",".",".",".",".",".",".",".",".",".",".",".",".",null,null,null,null,null,null,null,35,"",0,null,35,"",null,".",".",".",".",".",".",".",".",".",".",".",".",".",".",".",".",".",".",".",".",".",".",".",".",".",".",".",".",".",".",".",".",".",".",".",".",".",".",".",".",null,null,null,null,null,null,null,35,"",0,null,null,null,null,null,null,null,null,null,"","","","","","","","","","","","",0]
[36,null,null,".",".",".",".",".",".",".",".",".",".",".",".",".",".",".",".",".",".",".",".",".",".",".",".",".",".",".",".",".",".",".",".",".",".",".",".",".",".",".",".",null,null,null,null,null,null,null,36,"",0,null,36,"",null,".",".",".",".",".",".",".",".",".",".",".",".",".",".",".",".",".",".",".",".",".",".",".",".",".",".",".",".",".",".",".",".",".",".",".",".",".",".",".",".",null,null,null,null,null,null,null,36,"",0,null,null,null,null,null,null,null,null,null,"","","","","","","","","","","","",0]
[37,null,null,".",".",".",".",".",".",".",".",".",".",".",".",".",".",".",".",".",".",".",".",".",".",".",".",".",".",".",".",".",".",".",".",".",".",".",".",".",".",".",".",null,null,null,null,null,null,null,37,"",0,null,37,"",null,".",".",".",".",".",".",".",".",".",".",".",".",".",".",".",".",".",".",".",".",".",".",".",".",".",".",".",".",".",".",".",".",".",".",".",".",".",".",".",".",null,null,null,null,null,null,null,37,"",0,null,null,null,null,null,null,null,null,null,"","","","","","","","","","","","",0]
[38,null,null,".",".",".",".",".",".",".",".",".",".",".",".",".",".",".",".",".",".",".",".",".",".",".",".",".",".",".",".",".",".",".",".",".",".",".",".",".",".",".",".",null,null,null,null,null,null,null,38,"",0,null,38,"",null,".",".",".",".",".",".",".",".",".",".",".",".",".",".",".",".",".",".",".",".",".",".",".",".",".",".",".",".",".",".",".",".",".",".",".",".",".",".",".",".",null,null,null,null,null,null,null,38,"",0,null,null,null,null,null,null,null,null,null,"","","","","","","","","","","","",0]
[39,null,null,".",".",".",".",".",".",".",".",".",".",".",".",".",".",".",".",".",".",".",".",".",".",".",".",".",".",".",".",".",".",".",".",".",".",".",".",".",".",".",".",null,null,null,null,null,null,null,39,"",0,null,39,"",null,".",".",".",".",".",".",".",".",".",".",".",".",".",".",".",".",".",".",".",".",".",".",".",".",".",".",".",".",".",".",".",".",".",".",".",".",".",".",".",".",null,null,null,null,null,null,null,39,"",0,null,null,null,null,null,null,null,null,null,"","","","","","","","","","","","",0]
[40,null,null,".",".",".",".",".",".",".",".",".",".",".",".",".",".",".",".",".",".",".",".",".",".",".",".",".",".",".",".",".",".",".",".",".",".",".",".",".",".",".",".",null,null,null,null,null,null,null,40,"",0,null,40,"",null,".",".",".",".",".",".",".",".",".",".",".",".",".",".",".",".",".",".",".",".",".",".",".",".",".",".",".",".",".",".",".",".",".",".",".",".",".",".",".",".",null,null,null,null,null,null,null,40,"",0,null,null,null,null,null,null,null,null,null,"","","","","","","","","","","","",0]
[41,null,null,".",".",".",".",".",".",".",".",".",".",".",".",".",".",".",".",".",".",".",".",".",".",".",".",".",".",".",".",".",".",".",".",".",".",".",".",".",".",".",".",null,null,null,null,null,null,null,41,"",0,null,41,"",null,".",".",".",".",".",".",".",".",".",".",".",".",".",".",".",".",".",".",".",".",".",".",".",".",".",".",".",".",".",".",".",".",".",".",".",".",".",".",".",".",null,null,null,null,null,null,null,41,"",0,null,null,null,null,null,null,null,null,null,"","","","","","","","","","","","",0]
[42,null,null,".",".",".",".",".",".",".",".",".",".",".",".",".",".",".",".",".",".",".",".",".",".",".",".",".",".",".",".",".",".",".",".",".",".",".",".",".",".",".",".",null,null,null,null,null,null,null,42,"",0,null,42,"",null,".",".",".",".",".",".",".",".",".",".",".",".",".",".",".",".",".",".",".",".",".",".",".",".",".",".",".",".",".",".",".",".",".",".",".",".",".",".",".",".",null,null,null,null,null,null,null,42,"",0,null,null,null,null,null,null,null,null,null,"","","","","","","","","","","","",0]
[43,null,null,".",".",".",".",".",".",".",".",".",".",".",".",".",".",".",".",".",".",".",".",".",".",".",".",".",".",".",".",".",".",".",".",".",".",".",".",".",".",".",".",null,null,null,null,null,null,null,43,"",0,null,43,"",null,".",".",".",".",".",".",".",".",".",".",".",".",".",".",".",".",".",".",".",".",".",".",".",".",".",".",".",".",".",".",".",".",".",".",".",".",".",".",".",".",null,null,null,null,null,null,null,43,"",0,null,null,null,null,null,null,null,null,null,"","","","","","","","","","","","",0]
[44,null,null,".",".",".",".",".",".",".",".",".",".",".",".",".",".",".",".",".",".",".",".",".",".",".",".",".",".",".",".",".",".",".",".",".",".",".",".",".",".",".",".",null,null,null,null,null,null,null,44,"",0,null,44,"",null,".",".",".",".",".",".",".",".",".",".",".",".",".",".",".",".",".",".",".",".",".",".",".",".",".",".",".",".",".",".",".",".",".",".",".",".",".",".",".",".",null,null,null,null,null,null,null,44,"",0,null,null,null,null,null,null,null,null,null,"","","","","","","","","","","","",0]
[45,null,null,".",".",".",".",".",".",".",".",".",".",".",".",".",".",".",".",".",".",".",".",".",".",".",".",".",".",".",".",".",".",".",".",".",".",".",".",".",".",".",".",null,null,null,null,null,null,null,45,"",0,null,45,"",null,".",".",".",".",".",".",".",".",".",".",".",".",".",".",".",".",".",".",".",".",".",".",".",".",".",".",".",".",".",".",".",".",".",".",".",".",".",".",".",".",null,null,null,null,null,null,null,45,"",0,null,null,null,null,null,null,null,null,null,"","","","","","","","","","","","",0]
[46,null,null,".",".",".",".",".",".",".",".",".",".",".",".",".",".",".",".",".",".",".",".",".",".",".",".",".",".",".",".",".",".",".",".",".",".",".",".",".",".",".",".",null,null,null,null,null,null,null,46,"",0,null,46,"",null,".",".",".",".",".",".",".",".",".",".",".",".",".",".",".",".",".",".",".",".",".",".",".",".",".",".",".",".",".",".",".",".",".",".",".",".",".",".",".",".",null,null,null,null,null,null,null,46,"",0,null,null,null,null,null,null,null,null,null,"","","","","","","","","","","","",0]
[47,null,null,".",".",".",".",".",".",".",".",".",".",".",".",".",".",".",".",".",".",".",".",".",".",".",".",".",".",".",".",".",".",".",".",".",".",".",".",".",".",".",".",null,null,null,null,null,null,null,47,"",0,null,47,"",null,".",".",".",".",".",".",".",".",".",".",".",".",".",".",".",".",".",".",".",".",".",".",".",".",".",".",".",".",".",".",".",".",".",".",".",".",".",".",".",".",null,null,null,null,null,null,null,47,"",0,null,null,null,null,null,null,null,null,null,"","","","","","","","","","","","",0]
[48,null,null,".",".",".",".",".",".",".",".",".",".",".",".",".",".",".",".",".",".",".",".",".",".",".",".",".",".",".",".",".",".",".",".",".",".",".",".",".",".",".",".",null,null,null,null,null,null,null,48,"",0,null,48,"",null,".",".",".",".",".",".",".",".",".",".",".",".",".",".",".",".",".",".",".",".",".",".",".",".",".",".",".",".",".",".",".",".",".",".",".",".",".",".",".",".",null,null,null,null,null,null,null,48,"",0,null,null,null,null,null,null,null,null,null,"","","","","","","","","","","","",0]
[49,null,null,".",".",".",".",".",".",".",".",".",".",".",".",".",".",".",".",".",".",".",".",".",".",".",".",".",".",".",".",".",".",".",".",".",".",".",".",".",".",".",".",null,null,null,null,null,null,null,49,"",0,null,49,"",null,".",".",".",".",".",".",".",".",".",".",".",".",".",".",".",".",".",".",".",".",".",".",".",".",".",".",".",".",".",".",".",".",".",".",".",".",".",".",".",".",null,null,null,null,null,null,null,49,"",0,null,null,null,null,null,null,null,null,null,"","","","","","","","","","","","",0]
[50,null,null,".",".",".",".",".",".",".",".",".",".",".",".",".",".",".",".",".",".",".",".",".",".",".",".",".",".",".",".",".",".",".",".",".",".",".",".",".",".",".",".",null,null,null,null,null,null,null,50,"",0,null,50,"",null,".",".",".",".",".",".",".",".",".",".",".",".",".",".",".",".",".",".",".",".",".",".",".",".",".",".",".",".",".",".",".",".",".",".",".",".",".",".",".",".",null,null,null,null,null,null,null,50,"",0,null,null,null,null,null,null,null,null,null,"","","","","","","","","","","","",0]
[51,null,null,".",".",".",".",".",".",".",".",".",".",".",".",".",".",".",".",".",".",".",".",".",".",".",".",".",".",".",".",".",".",".",".",".",".",".",".",".",".",".",".",null,null,null,null,null,null,null,51,"",0,null,51,"",null,".",".",".",".",".",".",".",".",".",".",".",".",".",".",".",".",".",".",".",".",".",".",".",".",".",".",".",".",".",".",".",".",".",".",".",".",".",".",".",".",null,null,null,null,null,null,null,51,"",0,null,null,null,null,null,null,null,null,null,"","","","","","","","","","","","",0]
[52,null,null,".",".",".",".",".",".",".",".",".",".",".",".",".",".",".",".",".",".",".",".",".",".",".",".",".",".",".",".",".",".",".",".",".",".",".",".",".",".",".",".",null,null,null,null,null,null,null,52,"",0,null,52,"",null,".",".",".",".",".",".",".",".",".",".",".",".",".",".",".",".",".",".",".",".",".",".",".",".",".",".",".",".",".",".",".",".",".",".",".",".",".",".",".",".",null,null,null,null,null,null,null,52,{"$f":"AZ76","v":""},0,null,null,null,null,null,null,null,null,null,"","","","","","","","","","","","",0]
[53,null,null,".",".",".",".",".",".",".",".",".",".",".",".",".",".",".",".",".",".",".",".",".",".",".",".",".",".",".",".",".",".",".",".",".",".",".",".",".",".",".",".",null,null,null,null,null,null,null,53,"",0,null,53,"",null,".",".",".",".",".",".",".",".",".",".",".",".",".",".",".",".",".",".",".",".",".",".",".",".",".",".",".",".",".",".",".",".",".",".",".",".",".",".",".",".",null,null,null,null,null,null,null,53,"",0,null,null,null,null,null,null,null,null,null,"","","","","","","","","","","","",0]
[54,null,null,".",".",".",".",".",".",".",".",".",".",".",".",".",".",".",".",".",".",".",".",".",".",".",".",".",".",".",".",".",".",".",".",".",".",".",".",".",".",".",".",null,null,null,null,null,null,null,54,"",0,null,54,"",null,".",".",".",".",".",".",".",".",".",".",".",".",".",".",".",".",".",".",".",".",".",".",".",".",".",".",".",".",".",".",".",".",".",".",".",".",".",".",".",".",null,null,null,null,null,null,null,54,"",0,null,null,null,null,null,null,null,null,null,"","","","","","","","","","","","",0]
[55,null,null,".",".",".",".",".",".",".",".",".",".",".",".",".",".",".",".",".",".",".",".",".",".",".",".",".",".",".",".",".",".",".",".",".",".",".",".",".",".",".",".",null,null,null,null,null,null,null,55,"",0,null,55,"",null,".",".",".",".",".",".",".",".",".",".",".",".",".",".",".",".",".",".",".",".",".",".",".",".",".",".",".",".",".",".",".",".",".",".",".",".",".",".",".",".",null,null,null,null,null,null,null,55,"",0,null,null,null,null,null,null,null,null,null,"","","","","","","","","","","","",0]
[56,null,null,".",".",".",".",".",".",".",".",".",".",".",".",".",".",".",".",".",".",".",".",".",".",".",".",".",".",".",".",".",".",".",".",".",".",".",".",".",".",".",".",null,null,null,null,null,null,null,56,"",0,null,56,"",null,".",".",".",".",".",".",".",".",".",".",".",".",".",".",".",".",".",".",".",".",".",".",".",".",".",".",".",".",".",".",".",".",".",".",".",".",".",".",".",".",null,null,null,null,null,null,null,56,"",0,null,null,null,null,null,null,null,null,null,"","","","","","","","","","","","",0]
[57,null,null,".",".",".",".",".",".",".",".",".",".",".",".",".",".",".",".",".",".",".",".",".",".",".",".",".",".",".",".",".",".",".",".",".",".",".",".",".",".",".",".",null,null,null,null,null,null,null,57,"",0,null,57,"",null,".",".",".",".",".",".",".",".",".",".",".",".",".",".",".",".",".",".",".",".",".",".",".",".",".",".",".",".",".",".",".",".",".",".",".",".",".",".",".",".",null,null,null,null,null,null,null,57,"",0,null,null,null,null,null,null,null,null,null,"","","","","","","","","","","","",0]
[58,null,null,".",".",".",".",".",".",".",".",".",".",".",".",".",".",".",".",".",".",".",".",".",".",".",".",".",".",".",".",".",".",".",".",".",".",".",".",".",".",".",".",null,null,null,null,null,null,null,58,{"$f":"IF(OR(AS82=\"\",AR82<>\"\"),\"\",AVERAGE(AS82:AX82,CU82:CZ82))","v":""},0,null,58,"",null,".",".",".",".",".",".",".",".",".",".",".",".",".",".",".",".",".",".",".",".",".",".",".",".",".",".",".",".",".",".",".",".",".",".",".",".",".",".",".",".",null,null,null,null,null,null,null,58,"",0,null,null,null,null,null,null,null,null,null,"","","","","","","","","","","","",0]
[59,null,null,".",".",".",".",".",".",".",".",".",".",".",".",".",".",".",".",".",".",".",".",".",".",".",".",".",".",".",".",".",".",".",".",".",".",".",".",".",".",".",".",null,null,null,null,null,null,null,59,"",0,null,59,"",null,".",".",".",".",".",".",".",".",".",".",".",".",".",".",".",".",".",".",".",".",".",".",".",".",".",".",".",".",".",".",".",".",".",".",".",".",".",".",".",".",null,null,null,null,null,null,null,59,"",0,null,null,null,null,null,null,null,null,null,"","","","","","","","","","","","",0]
[60,null,null,".",".",".",".",".",".",".",".",".",".",".",".",".",".",".",".",".",".",".",".",".",".",".",".",".",".",".",".",".",".",".",".",".",".",".",".",".",".",".",".",null,null,null,null,null,null,null,60,"",0,null,60,"",null,".",".",".",".",".",".",".",".",".",".",".",".",".",".",".",".",".",".",".",".",".",".",".",".",".",".",".",".",".",".",".",".",".",".",".",".",".",".",".",".",null,null,null,null,null,null,null,60,"",0,null,null,null,null,null,null,null,null,null,"","","","","","","","","","","","",0]
[61,null,null,".",".",".",".",".",".",".",".",".",".",".",".",".",".",".",".",".",".",".",".",".",".",".",".",".",".",".",".",".",".",".",".",".",".",".",".",".",".",".",".",null,null,null,null,null,null,null,61,"",0,null,61,"",null,".",".",".",".",".",".",".",".",".",".",".",".",".",".",".",".",".",".",".",".",".",".",".",".",".",".",".",".",".",".",".",".",".",".",".",".",".",".",".",".",null,null,null,null,null,null,null,61,"",0,null,null,null,null,null,null,null,null,null,"","","","","","","","","","","","",0]
[62,null,null,".",".",".",".",".",".",".",".",".",".",".",".",".",".",".",".",".",".",".",".",".",".",".",".",".",".",".",".",".",".",".",".",".",".",".",".",".",".",".",".",null,null,null,null,null,null,null,62,"",0,null,62,"",null,".",".",".",".",".",".",".",".",".",".",".",".",".",".",".",".",".",".",".",".",".",".",".",".",".",".",".",".",".",".",".",".",".",".",".",".",".",".",".",".",null,null,null,null,null,null,null,62,"",0,null,null,null,null,null,null,null,null,null,"","","","","","","","","","","","",0]
[63,null,null,".",".",".",".",".",".",".",".",".",".",".",".",".",".",".",".",".",".",".",".",".",".",".",".",".",".",".",".",".",".",".",".",".",".",".",".",".",".",".",".",null,null,null,null,null,null,null,63,"",0,null,63,"",null,".",".",".",".",".",".",".",".",".",".",".",".",".",".",".",".",".",".",".",".",".",".",".",".",".",".",".",".",".",".",".",".",".",".",".",".",".",".",".",".",null,null,null,null,null,null,null,63,"",0,null,null,null,null,null,null,null,null,null,"","","","","","","","","","","","",0]
[64,null,null,".",".",".",".",".",".",".",".",".",".",".",".",".",".",".",".",".",".",".",".",".",".",".",".",".",".",".",".",".",".",".",".",".",".",".",".",".",".",".",".",null,null,null,null,null,null,null,64,"",0,null,64,"",null,".",".",".",".",".",".",".",".",".",".",".",".",".",".",".",".",".",".",".",".",".",".",".",".",".",".",".",".",".",".",".",".",".",".",".",".",".",".",".",".",null,null,null,null,null,null,null,64,"",0,null,null,null,null,null,null,null,null,null,"","","","","","","","","","","","",0]
["Entregue em:___/___/_____ POR__________________  Revisado em:___/___/_____ POR__________________ Processado em:___/___/_____ POR__________________ ",null,null,null,null,null,null,null,null,null,null,null,null,null,null,null,null,null,null,null,null,null,null,null,null,null,null,null,null,null,null,null,null,null,null,null,null,null,null,null,null,null,null,null,null,null,null,null,null,null,null,null,null,null,"Entregue em:___/___/_____ POR__________________  Revisado em:___/___/_____ POR__________________ Processado em:___/___/_____ POR__________________ "]
["* Aluno com bolsa família   ** Aluno especial",null,null,"T = Transferido na data",null,null,null,null,null,null,null,null,null,null,null,null,null,null,"C = Calcelado na data",null,null,null,null,null,null,null,null,null,null,null,null,null,null,null,null,null,null,null,null,null,null,null,null,null,null,null,null,null,null,null,{"$f":"NOW()","v":"2021-11-10T17:47:29.510"},null,null,null,"* Aluno com bolsa família   ** Aluno especial",null,null,"T = Transferido na data",null,null,null,null,null,null,null,null,null,null,null,null,null,"C = Calcelado na data",null,null,null,null,null,null,null,null,null,null,null,null,null,null,null,null,null,null,null,null,null,null,null,null,null,null,null,null,null,null,null,null,{"$f":"NOW()","v":"2021-11-10T17:47:29.510"}]

{"sheet":"conteudos","index":2,"n_rows":42,"n_cols":4,"rows_kept":42,"cut":false,"hidden":false,"merged":[[0,1,0,4],[1,1,1,4]]}
[null,"CONTEÚDOS DESENVOLVIDOS"]
[null,{"$f":"\" [\"&Configuracoes!C6&\"]     Disciplina: \"&Configuracoes!C7&\"      Turma: \"&Configuracoes!C9&\"     Professor: \"&Configuracoes!C10&\"    Aulas dadas: \" &chamada!AY6","v":" [Primeiro Trimestre]     Disciplina: Sociologia      Turma: 102     Professor: Zeferino Costa Garcia    Aulas dadas: 0"}]
[null,{"$f":"IF(chamada!D10=\"\",\"\",chamada!D10)","v":""},"Introdução a Sociologia",{"$f":"IF(chamada!BF$10=\"\",\"\",chamada!BF$10)","v":""}]
[null,{"$f":"IF(chamada!E10=\"\",\"\",chamada!E10)","v":""},"A base econômica da Sociedade: introdução",{"$f":"IF(chamada!BG$10=\"\",\"\",chamada!BG$10)","v":""}]
[null,{"$f":"IF(chamada!F10=\"\",\"\",chamada!F10)","v":""},"A produção e o trabalho",{"$f":"IF(chamada!BH$10=\"\",\"\",chamada!BH$10)","v":""}]
[null,{"$f":"IF(chamada!G10=\"\",\"\",chamada!G10)","v":""},"A produção e o trabalho",{"$f":"IF(chamada!BI$10=\"\",\"\",chamada!BI$10)","v":""}]
[null,{"$f":"IF(chamada!H10=\"\",\"\",chamada!H10)","v":""},"Matéria prima e instrumentos de produção",{"$f":"IF(chamada!BJ$10=\"\",\"\",chamada!BJ$10)","v":""}]
[null,{"$f":"IF(chamada!I10=\"\",\"\",chamada!I10)","v":""},"Debates / trabalhos em aula",{"$f":"IF(chamada!BK$10=\"\",\"\",chamada!BK$10)","v":""}]
[null,{"$f":"IF(chamada!J10=\"\",\"\",chamada!J10)","v":""},"Forças produtivas",{"$f":"IF(chamada!BL$10=\"\",\"\",chamada!BL$10)","v":""}]
[null,{"$f":"IF(chamada!K10=\"\",\"\",chamada!K10)","v":""},"Forças produtivas",{"$f":"IF(chamada!BM$10=\"\",\"\",chamada!BM$10)","v":""}]
[null,{"$f":"IF(chamada!L10=\"\",\"\",chamada!L10)","v":""},"Relações de produção",{"$f":"IF(chamada!BN$10=\"\",\"\",chamada!BN$10)","v":""}]
[null,{"$f":"IF(chamada!M10=\"\",\"\",chamada!M10)","v":""},"Modos de produção",{"$f":"IF(chamada!BO$10=\"\",\"\",chamada!BO$10)","v":""}]
[null,{"$f":"IF(chamada!N10=\"\",\"\",chamada!N10)","v":""},"Debates / trabalhos em aula",{"$f":"IF(chamada!BP$10=\"\",\"\",chamada!BP$10)","v":""}]
[null,{"$f":"IF(chamada!O10=\"\",\"\",chamada!O10)","v":""},"Avaliação / trabalho",{"$f":"IF(chamada!BQ$10=\"\",\"\",chamada!BQ$10)","v":""}]
[null,{"$f":"IF(chamada!P10=\"\",\"\",chamada!P10)","v":""},"Revisão de avaliação",{"$f":"IF(chamada!BR$10=\"\",\"\",chamada!BR$10)","v":""}]
[null,{"$f":"IF(chamada!Q10=\"\",\"\",chamada!Q10)","v":""},null,{"$f":"IF(chamada!BS$10=\"\",\"\",chamada!BS$10)","v":""}]
[null,{"$f":"IF(chamada!R10=\"\",\"\",chamada!R10)","v":""},null,{"$f":"IF(chamada!BT$10=\"\",\"\",chamada!BT$10)","v":""}]
[null,{"$f":"IF(chamada!S10=\"\",\"\",chamada!S10)","v":""},null,{"$f":"IF(chamada!BU$10=\"\",\"\",chamada!BU$10)","v":""}]
[null,{"$f":"IF(chamada!T10=\"\",\"\",chamada!T10)","v":""},null,{"$f":"IF(chamada!BV$10=\"\",\"\",chamada!BV$10)","v":""}]
[null,{"$f":"IF(chamada!U10=\"\",\"\",chamada!U10)","v":""},null,{"$f":"IF(chamada!BW$10=\"\",\"\",chamada!BW$10)","v":""}]
[null,{"$f":"IF(chamada!V$10=\"\",\"\",chamada!V$10)","v":""},null,{"$f":"IF(chamada!BX$10=\"\",\"\",chamada!BX$10)","v":""}]
[null,{"$f":"IF(chamada!W$10=\"\",\"\",chamada!W$10)","v":""},null,{"$f":"IF(chamada!BY$10=\"\",\"\",chamada!BY$10)","v":""}]
[null,{"$f":"IF(chamada!X$10=\"\",\"\",chamada!X$10)","v":""},null,{"$f":"IF(chamada!BZ$10=\"\",\"\",chamada!BZ$10)","v":""}]
[null,{"$f":"IF(chamada!Y$10=\"\",\"\",chamada!Y$10)","v":""},null,{"$f":"IF(chamada!CA$10=\"\",\"\",chamada!CA$10)","v":""}]
[null,{"$f":"IF(chamada!Z$10=\"\",\"\",chamada!Z$10)","v":""},null,{"$f":"IF(chamada!CA$10=\"\",\"\",chamada!CA$10)","v":""}]
[null,{"$f":"IF(chamada!AA$10=\"\",\"\",chamada!AA$10)","v":""},null,{"$f":"IF(chamada!CA$10=\"\",\"\",chamada!CA$10)","v":""}]
[null,{"$f":"IF(chamada!AB$10=\"\",\"\",chamada!AB$10)","v":""},null,{"$f":"IF(chamada!CA$10=\"\",\"\",chamada!CA$10)","v":""}]
[null,{"$f":"IF(chamada!AC$10=\"\",\"\",chamada!AC$10)","v":""},null,{"$f":"IF(chamada!CA$10=\"\",\"\",chamada!CA$10)","v":""}]
[null,{"$f":"IF(chamada!AD$10=\"\",\"\",chamada!AD$10)","v":""},null,{"$f":"IF(chamada!CA$10=\"\",\"\",chamada!CA$10)","v":""}]
[null,{"$f":"IF(chamada!AE$10=\"\",\"\",chamada!AE$10)","v":""},null,{"$f":"IF(chamada!CA$10=\"\",\"\",chamada!CA$10)","v":""}]
[null,{"$f":"IF(chamada!AF$10=\"\",\"\",chamada!AF$10)","v":""},null,{"$f":"IF(chamada!CA$10=\"\",\"\",chamada!CA$10)","v":""}]
[null,{"$f":"IF(chamada!AG$10=\"\",\"\",chamada!AG$10)","v":""},null,{"$f":"IF(chamada!CA$10=\"\",\"\",chamada!CA$10)","v":""}]
[null,{"$f":"IF(chamada!AH$10=\"\",\"\",chamada!AH$10)","v":""},null,{"$f":"IF(chamada!CA$10=\"\",\"\",chamada!CA$10)","v":""}]
[null,{"$f":"IF(chamada!AI$10=\"\",\"\",chamada!AI$10)","v":""},null,{"$f":"IF(chamada!CA$10=\"\",\"\",chamada!CA$10)","v":""}]
[null,{"$f":"IF(chamada!AJ$10=\"\",\"\",chamada!AJ$10)","v":""},null,{"$f":"IF(chamada!CA$10=\"\",\"\",chamada!CA$10)","v":""}]
[null,{"$f":"IF(chamada!AK$10=\"\",\"\",chamada!AK$10)","v":""},null,{"$f":"IF(chamada!CA$10=\"\",\"\",chamada!CA$10)","v":""}]
[null,{"$f":"IF(chamada!AL$10=\"\",\"\",chamada!AL$10)","v":""},null,{"$f":"IF(chamada!CA$10=\"\",\"\",chamada!CA$10)","v":""}]
[null,{"$f":"IF(chamada!AM$10=\"\",\"\",chamada!AM$10)","v":""},null,{"$f":"IF(chamada!CA$10=\"\",\"\",chamada!CA$10)","v":""}]
[null,{"$f":"IF(chamada!AN$10=\"\",\"\",chamada!AN$10)","v":""},null,{"$f":"IF(chamada!CA$10=\"\",\"\",chamada!CA$10)","v":""}]
[null,{"$f":"IF(chamada!AO$10=\"\",\"\",chamada!AO$10)","v":""},null,{"$f":"IF(chamada!CA$10=\"\",\"\",chamada!CA$10)","v":""}]
[null,{"$f":"IF(chamada!AP$10=\"\",\"\",chamada!AP$10)","v":""},null,{"$f":"IF(chamada!CA$10=\"\",\"\",chamada!CA$10)","v":""}]
[null,{"$f":"IF(chamada!AQ$10=\"\",\"\",chamada!AQ$10)","v":""},null,{"$f":"IF(chamada!CA$10=\"\",\"\",chamada!CA$10)","v":""}]

{"sheet":"Percentual_de_presencas","index":3,"n_rows":3,"n_cols":4,"rows_kept":3,"cut":false,"hidden":false,"merged":[[1,0,2,0],[1,1,2,1]]}
[]
["Nº","Nome do Aluno","Total","Percentual"]
[null,null,"Faltas","de Presenças"]

{"sheet":"Configuracoes","index":4,"n_rows":23,"n_cols":11,"rows_kept":23,"cut":false,"hidden":false,"merged":[[20,1,20,2],[11,1,11,2],[3,1,3,2],[4,1,4,2],[4,4,4,10],[11,4,11,6],[11,8,11,10],[13,4,39,4],[13,8,39,8]]}
[]
[]
[]
[null,"PREENCHA OS DADOS ABAIXO"]
[null,"DISCIPLINA",null,null,"DIAS COM AULA NA SEMANA"]
[null,"Período:","Primeiro Trimestre",null,null,"Dia da semana correspondente:",null,null,{"$f":"WEEKDAY(F7)","v":2}]
[null,"Componente:","Sociologia",null,"inicio","2017-03-06",null,null,null,"fim","2017-05-27"]
[null,"Série:","1º ano",null,1,2,3,4,5,6,7]
[null,"Turma:",102,null,"Dom","Seg","Ter","Qua","Qui","Sex","Sáb"]
[null,"Regente:","Zeferino Costa Garcia",null,null,1]
[]
[null,"ESCOLA",null,null,"SÁBADOS LETIVOS",null,null,null,"FERIADOS"]
[null,"Endereço:","Rua Félix da Cunha",null,"Total:",{"$f":"COUNTA(F14:F100)","v":2},null,null,"Total:",{"$f":"COUNTA(J14:J100)","v":5}]
[null,"Cep:","96570-000",null,"Preencha aqui os sábados letivos e outras datas que tenha ministrado aulas extras","2017-04-01",null,null,"Preencha aqui os feriados e as datas que não tenham ocorrido aulas","2017-03-31"]
[null,"Cidade:","Caçapava do Sul",null,null,"2017-05-27",null,null,null,"2017-03-15"]
[null,"UF:","RS",null,null,null,null,null,null,"2017-04-14"]
[null,"Identificação:",2768,null,null,null,null,null,null,"2017-04-21"]
[null,"Telefone:","(55)3281-1699",null,null,null,null,null,null,"2017-05-01"]
[null,"Escola:","Esc Est Ens Fun Profª Januária Leal"]
[]
[null,"OUTROS DADOS"]
[null,"Calendário:","2018 - CA-2018"]
[null,"Curso:","Ensino Fundamental"]

{"sheet":"AJUDA","index":5,"n_rows":47,"n_cols":7,"rows_kept":47,"cut":false,"hidden":false,"merged":[]}
[]
[]
[]
["ATENÇÃO:"]
[]
["As chamadas são divididas em quatro páginas numeradas com as seguintes funções:"]
[]
[null,"Páginas 1 e 2 são continuação dos nomes dos alunos, para o caso de existir mais de 32 alunos na turma"]
[null,"Páginas 3 e 4 são para continuação dos dias de aula."]
[null,"Para imprimir pressione CTRL + P"]
[]
["AS AVALIAÇÕES"]
[]
[null,"Todos os alunos devem ter a mesma quantidade de avaliações. Exemplo:"]
[]
[null,"Sandra",5,8,0,null,"Aqui o sistema somará e divdirá por 3"]
[null,"Jair",6,8,7,null,"Aqui o sistema somará e divdirá por 3"]
[]
[null,"NÃO DEVE ficar como a baixo, onde um tem duas avaliações e outro apenas uma."]
[]
[null,"Sandra",5,8,null,"Aqui o sistema somará e divdirá por 2"]
[null,"Jair",6,null,null,"Aqui o sistema somará e divdirá por 1"]
[]
[]
[]
["DIAS COM AULAS NA SEMANA"]
[]
[null,"Para usar a datação automática deve cuidar das informações prestadas."]
[]
[null,"Primeiro informe a baixo os sábados letivos e os dias de feriado"]
[]
[null,"Depois informe a data de início e término de seu horário (levando em consideração que as datas de aula por turma podem mudar durante o trimestre)"]
[null,"Exemplo: ","1º No período de 02/02 a 20/02 foi dado 2 aulas na segunta e 1 na quinta;"]
[null,null,null,"preencha o início com 02/02 e o fim como 20/02"]
[null,null,"2º A partir de 21/02 as aulas mudaram para 1 aula na segunda e 2 na quarta"]
[null,null,null,"preencha o início com 21/02 e o fim com a data final do trimestre."]
[]
[null,"ATENÇÂO","Se na primeira vez você já havia preenchido com a data final do trimestre, seu caderno de chamada já estaria com todas as datas preenchidas,"]
[null,null,"neste caso, para usar o preenchimento automático deveria apagar todas as datas posteriores a 20/02 para depois fazer o 2º passo."]
[]
["SALVAR ARQUIVO NOVO - GERAR NOVA CHAMADA"]
[]
[null,"Ao alterar na guia CONFIGURACOES a turma, automaticamente será perguntado se deseja salvar o arquivo em um NOVO"]
[]
[null,"Alem deste momento, para gerar uma nova chama vá em SALVAR COMO e informe:"]
[null,null,"UM NOVO NOME para o arquivo"]
[null,null,"ALTERE O TIPO para: Pasta de trabalho Habilitada para Macros do Excel"]